BEGIN:VCALENDAR
VERSION:2.0
PRODID:-//spbstu.ru//ical//RU
NAME:Расписание
X-WR-CALNAME:Расписание
TIMEZONE-ID:Europe/Moscow
X-WR-TIMEZONE:Europe/Moscow
BEGIN:VEVENT
UID:j2cf@192.168.245.71:3006
SEQUENCE:0
DTSTAMP:20260425T170004Z
DTSTART:20260114T100000Z
DTEND:20260114T113000Z
SUMMARY:Волоконно-оптические линии связи
LOCATION:2 к. 353
END:VEVENT
BEGIN:VEVENT
UID:61ex@192.168.245.71:3006
SEQUENCE:0
DTSTAMP:20260425T170004Z
DTSTART:20260115T080000Z
DTEND:20260115T093000Z
SUMMARY:Информационные системы и технологии
LOCATION:2 к. 352
END:VEVENT
BEGIN:VEVENT
UID:jc36@192.168.245.71:3006
SEQUENCE:0
DTSTAMP:20260425T170004Z
DTSTART:20260115T110000Z
DTEND:20260115T160000Z
SUMMARY:Волоконно-оптические линии связи
LOCATION:2 к. 353
END:VEVENT
BEGIN:VEVENT
UID:d8cv@192.168.245.71:3006
SEQUENCE:0
DTSTAMP:20260425T170004Z
DTSTART:20260116T090000Z
DTEND:20260116T103000Z
SUMMARY:Теория квантовых генераторов света
LOCATION:2 к. 353
END:VEVENT
BEGIN:VEVENT
UID:gihl@192.168.245.71:3006
SEQUENCE:0
DTSTAMP:20260425T170004Z
DTSTART:20260116T110000Z
DTEND:20260116T160000Z
SUMMARY:Информационные системы и технологии
LOCATION:2 к. 353
END:VEVENT
END:VCALENDAR