BEGIN:VCALENDAR
VERSION:2.0
PRODID:-//spbstu.ru//ical//RU
NAME:Расписание
X-WR-CALNAME:Расписание
TIMEZONE-ID:Europe/Moscow
X-WR-TIMEZONE:Europe/Moscow
BEGIN:VEVENT
UID:0vet@192.168.245.71:3006
SEQUENCE:0
DTSTAMP:20260423T220007Z
DTSTART:20251112T070000Z
DTEND:20251112T084000Z
SUMMARY:Нанотехнологии и наноматериалы
LOCATION:ЛабК 65
END:VEVENT
BEGIN:VEVENT
UID:1lej@192.168.245.71:3006
SEQUENCE:0
DTSTAMP:20260423T220007Z
DTSTART:20251114T070000Z
DTEND:20251114T084000Z
SUMMARY:Нанотехнологии в микроэлектронике
LOCATION:Хим. к. 34
END:VEVENT
BEGIN:VEVENT
UID:5j1y@192.168.245.71:3006
SEQUENCE:0
DTSTAMP:20260423T220007Z
DTSTART:20251114T090000Z
DTEND:20251114T104000Z
SUMMARY:Нанотехнологии в микроэлектронике
LOCATION:Хим. к. 34
END:VEVENT
END:VCALENDAR