BEGIN:VCALENDAR
VERSION:2.0
PRODID:-//spbstu.ru//ical//RU
NAME:Расписание
X-WR-CALNAME:Расписание
TIMEZONE-ID:Europe/Moscow
X-WR-TIMEZONE:Europe/Moscow
BEGIN:VEVENT
UID:p2qr@192.168.245.71:3006
SEQUENCE:0
DTSTAMP:20260421T155129Z
DTSTART:20260319T070000Z
DTEND:20260319T084000Z
SUMMARY:Нанотехнологии и наноматериалы
LOCATION:Хим. к. 55
END:VEVENT
BEGIN:VEVENT
UID:4t51@192.168.245.71:3006
SEQUENCE:0
DTSTAMP:20260421T155129Z
DTSTART:20260319T090000Z
DTEND:20260319T104000Z
SUMMARY:Нанотехнологии и наноматериалы
LOCATION:Хим. к. 55
END:VEVENT
END:VCALENDAR