BEGIN:VCALENDAR
VERSION:2.0
PRODID:-//spbstu.ru//ical//RU
NAME:Расписание
X-WR-CALNAME:Расписание
TIMEZONE-ID:Europe/Moscow
X-WR-TIMEZONE:Europe/Moscow
BEGIN:VEVENT
UID:uvpy@192.168.245.71:3006
SEQUENCE:0
DTSTAMP:20260422T052304Z
DTSTART:20260622T070000Z
DTEND:20260622T080000Z
SUMMARY:Нанотехнологии и наноматериалы
LOCATION:Хим. к. 55
END:VEVENT
BEGIN:VEVENT
UID:slc6@192.168.245.71:3006
SEQUENCE:0
DTSTAMP:20260422T052304Z
DTSTART:20260623T070000Z
DTEND:20260623T110000Z
SUMMARY:Нанотехнологии и наноматериалы
LOCATION:Хим. к. 55
END:VEVENT
END:VCALENDAR