BEGIN:VCALENDAR
VERSION:2.0
PRODID:-//spbstu.ru//ical//RU
NAME:Расписание
X-WR-CALNAME:Расписание
TIMEZONE-ID:Europe/Moscow
X-WR-TIMEZONE:Europe/Moscow
BEGIN:VEVENT
UID:e6gw@192.168.245.71:3006
SEQUENCE:0
DTSTAMP:20260422T113704Z
DTSTART:20260210T080000Z
DTEND:20260210T085000Z
SUMMARY:Вычислительные методы аэрогидродинамики
LOCATION:1 к. каф. ГГТ
END:VEVENT
BEGIN:VEVENT
UID:hjrb@192.168.245.71:3006
SEQUENCE:0
DTSTAMP:20260422T113704Z
DTSTART:20260210T090000Z
DTEND:20260210T104000Z
SUMMARY:Вычислительные методы аэрогидродинамики
LOCATION:1 к. каф. ГГТ
END:VEVENT
END:VCALENDAR