BEGIN:VCALENDAR
VERSION:2.0
PRODID:-//spbstu.ru//ical//RU
NAME:Расписание
X-WR-CALNAME:Расписание
TIMEZONE-ID:Europe/Moscow
X-WR-TIMEZONE:Europe/Moscow
BEGIN:VEVENT
UID:7w08@192.168.245.71:3006
SEQUENCE:0
DTSTAMP:20260421T053644Z
DTSTART:20260421T080000Z
DTEND:20260421T085000Z
SUMMARY:Вычислительные методы аэрогидродинамики
LOCATION:1 к. каф. ГГТ
END:VEVENT
BEGIN:VEVENT
UID:7642@192.168.245.71:3006
SEQUENCE:0
DTSTAMP:20260421T053644Z
DTSTART:20260421T090000Z
DTEND:20260421T104000Z
SUMMARY:Вычислительные методы аэрогидродинамики
LOCATION:1 к. каф. ГГТ
END:VEVENT
END:VCALENDAR