BEGIN:VCALENDAR
VERSION:2.0
PRODID:-//spbstu.ru//ical//RU
NAME:Расписание
X-WR-CALNAME:Расписание
TIMEZONE-ID:Europe/Moscow
X-WR-TIMEZONE:Europe/Moscow
BEGIN:VEVENT
UID:n7af@192.168.245.71:3006
SEQUENCE:0
DTSTAMP:20260424T090234Z
DTSTART:20251208T130000Z
DTEND:20251208T144000Z
SUMMARY:Аудит
LOCATION:50 уч.к 1239
END:VEVENT
BEGIN:VEVENT
UID:19yw@192.168.245.71:3006
SEQUENCE:0
DTSTAMP:20260424T090234Z
DTSTART:20251212T110000Z
DTEND:20251212T124000Z
SUMMARY:Международные стандарты аудита
LOCATION:50 уч.к 1112
END:VEVENT
BEGIN:VEVENT
UID:5zl3@192.168.245.71:3006
SEQUENCE:0
DTSTAMP:20260424T090234Z
DTSTART:20251212T130000Z
DTEND:20251212T144000Z
SUMMARY:Международные стандарты аудита
LOCATION:50 уч.к 1218
END:VEVENT
END:VCALENDAR