BEGIN:VCALENDAR
VERSION:2.0
PRODID:-//spbstu.ru//ical//RU
NAME:Расписание
X-WR-CALNAME:Расписание
TIMEZONE-ID:Europe/Moscow
X-WR-TIMEZONE:Europe/Moscow
BEGIN:VEVENT
UID:3gm2@192.168.245.71:3006
SEQUENCE:0
DTSTAMP:20260426T002642Z
DTSTART:20250929T130000Z
DTEND:20250929T144000Z
SUMMARY:Аудит
LOCATION:50 уч.к 1239
END:VEVENT
BEGIN:VEVENT
UID:wguv@192.168.245.71:3006
SEQUENCE:0
DTSTAMP:20260426T002642Z
DTSTART:20251002T150000Z
DTEND:20251002T164000Z
SUMMARY:Организация внутреннего контроля в государственном и корпоративном
  секторе
LOCATION:50 уч.к 1217
END:VEVENT
BEGIN:VEVENT
UID:6ti9@192.168.245.71:3006
SEQUENCE:0
DTSTAMP:20260426T002642Z
DTSTART:20251002T170000Z
DTEND:20251002T184000Z
SUMMARY:Организация внутреннего контроля в государственном и корпоративном
  секторе
LOCATION:50 уч.к 1217
END:VEVENT
BEGIN:VEVENT
UID:kjpv@192.168.245.71:3006
SEQUENCE:0
DTSTAMP:20260426T002642Z
DTSTART:20251003T110000Z
DTEND:20251003T124000Z
SUMMARY:Международные стандарты аудита
LOCATION:50 уч.к 1112
END:VEVENT
BEGIN:VEVENT
UID:qk95@192.168.245.71:3006
SEQUENCE:0
DTSTAMP:20260426T002642Z
DTSTART:20251003T130000Z
DTEND:20251003T144000Z
SUMMARY:Международные стандарты аудита
LOCATION:50 уч.к 1218
END:VEVENT
END:VCALENDAR