BEGIN:VCALENDAR
VERSION:2.0
PRODID:-//spbstu.ru//ical//RU
NAME:Расписание
X-WR-CALNAME:Расписание
TIMEZONE-ID:Europe/Moscow
X-WR-TIMEZONE:Europe/Moscow
BEGIN:VEVENT
UID:7sjd@192.168.245.71:3006
SEQUENCE:0
DTSTAMP:20260423T062517Z
DTSTART:20251215T110000Z
DTEND:20251215T124000Z
SUMMARY:Высшая математика (на английском языке)
LOCATION:50 уч.к 1341
END:VEVENT
BEGIN:VEVENT
UID:l3gr@192.168.245.71:3006
SEQUENCE:0
DTSTAMP:20260423T062517Z
DTSTART:20251216T070000Z
DTEND:20251216T084000Z
SUMMARY:Теория вероятностей (на английском языке)
LOCATION:50 уч.к 1214
END:VEVENT
BEGIN:VEVENT
UID:0f0r@192.168.245.71:3006
SEQUENCE:0
DTSTAMP:20260423T062517Z
DTSTART:20251216T070000Z
DTEND:20251216T084000Z
SUMMARY:Теория вероятностей (на английском языке)
LOCATION:50 уч.к 1214
END:VEVENT
BEGIN:VEVENT
UID:sgrc@192.168.245.71:3006
SEQUENCE:0
DTSTAMP:20260423T062517Z
DTSTART:20251216T130000Z
DTEND:20251216T144000Z
SUMMARY:Теория вероятностей
LOCATION:50 уч.к 1105
END:VEVENT
BEGIN:VEVENT
UID:djv1@192.168.245.71:3006
SEQUENCE:0
DTSTAMP:20260423T062517Z
DTSTART:20251219T090000Z
DTEND:20251219T110000Z
SUMMARY:Теория вероятностей
LOCATION:50 уч.к 1217
END:VEVENT
END:VCALENDAR