BEGIN:VCALENDAR
VERSION:2.0
PRODID:-//spbstu.ru//ical//RU
NAME:Расписание
X-WR-CALNAME:Расписание
TIMEZONE-ID:Europe/Moscow
X-WR-TIMEZONE:Europe/Moscow
BEGIN:VEVENT
UID:y2uk@192.168.245.71:3006
SEQUENCE:0
DTSTAMP:20260424T215149Z
DTSTART:20250922T110000Z
DTEND:20250922T124000Z
SUMMARY:Высшая математика (на английском языке)
LOCATION:50 уч.к 1341
END:VEVENT
BEGIN:VEVENT
UID:zbqe@192.168.245.71:3006
SEQUENCE:0
DTSTAMP:20260424T215149Z
DTSTART:20250923T070000Z
DTEND:20250923T084000Z
SUMMARY:Теория вероятностей (на английском языке)
LOCATION:50 уч.к 1214
END:VEVENT
BEGIN:VEVENT
UID:v998@192.168.245.71:3006
SEQUENCE:0
DTSTAMP:20260424T215149Z
DTSTART:20250923T130000Z
DTEND:20250923T144000Z
SUMMARY:Теория вероятностей
LOCATION:50 уч.к 1341
END:VEVENT
BEGIN:VEVENT
UID:mo07@192.168.245.71:3006
SEQUENCE:0
DTSTAMP:20260424T215149Z
DTSTART:20250926T110000Z
DTEND:20250926T124000Z
SUMMARY:Теория вероятностей
LOCATION:50 уч.к 1115
END:VEVENT
END:VCALENDAR