BEGIN:VCALENDAR
VERSION:2.0
PRODID:-//spbstu.ru//ical//RU
NAME:Расписание
X-WR-CALNAME:Расписание
TIMEZONE-ID:Europe/Moscow
X-WR-TIMEZONE:Europe/Moscow
BEGIN:VEVENT
UID:fcua@192.168.245.71:3006
SEQUENCE:0
DTSTAMP:20260424T040348Z
DTSTART:20251103T110000Z
DTEND:20251103T124000Z
SUMMARY:Основы теории управления
LOCATION:3 к. 217
END:VEVENT
BEGIN:VEVENT
UID:y2yu@192.168.245.71:3006
SEQUENCE:0
DTSTAMP:20260424T040348Z
DTSTART:20251103T130000Z
DTEND:20251103T144000Z
SUMMARY:Основы теории управления
LOCATION:3 к. 217
END:VEVENT
BEGIN:VEVENT
UID:qtcf@192.168.245.71:3006
SEQUENCE:0
DTSTAMP:20260424T040348Z
DTSTART:20251107T090000Z
DTEND:20251107T104000Z
SUMMARY:Основы теории управления
LOCATION:3 к. 216
END:VEVENT
BEGIN:VEVENT
UID:1t87@192.168.245.71:3006
SEQUENCE:0
DTSTAMP:20260424T040348Z
DTSTART:20251107T110000Z
DTEND:20251107T124000Z
SUMMARY:Основы теории управления
LOCATION:3 к. 216
END:VEVENT
BEGIN:VEVENT
UID:robf@192.168.245.71:3006
SEQUENCE:0
DTSTAMP:20260424T040348Z
DTSTART:20251107T130000Z
DTEND:20251107T144000Z
SUMMARY:Основы теории управления
LOCATION:3 к. 215
END:VEVENT
END:VCALENDAR