BEGIN:VCALENDAR
VERSION:2.0
PRODID:-//spbstu.ru//ical//RU
NAME:Расписание
X-WR-CALNAME:Расписание
TIMEZONE-ID:Europe/Moscow
X-WR-TIMEZONE:Europe/Moscow
BEGIN:VEVENT
UID:baqc@192.168.245.71:3006
SEQUENCE:0
DTSTAMP:20260424T233703Z
DTSTART:20250915T110000Z
DTEND:20250915T124000Z
SUMMARY:Основы теории управления
LOCATION:3 к. 217
END:VEVENT
BEGIN:VEVENT
UID:qtya@192.168.245.71:3006
SEQUENCE:0
DTSTAMP:20260424T233703Z
DTSTART:20250915T130000Z
DTEND:20250915T144000Z
SUMMARY:Основы теории управления
LOCATION:3 к. 202
END:VEVENT
BEGIN:VEVENT
UID:imjn@192.168.245.71:3006
SEQUENCE:0
DTSTAMP:20260424T233703Z
DTSTART:20250916T130000Z
DTEND:20250916T144000Z
SUMMARY:Основы теории управления
LOCATION:3 к. 216
END:VEVENT
BEGIN:VEVENT
UID:keu3@192.168.245.71:3006
SEQUENCE:0
DTSTAMP:20260424T233703Z
DTSTART:20250917T130000Z
DTEND:20250917T144000Z
SUMMARY:Микропроцессорные системы
LOCATION:DL Дистанционно
END:VEVENT
BEGIN:VEVENT
UID:yjw9@192.168.245.71:3006
SEQUENCE:0
DTSTAMP:20260424T233703Z
DTSTART:20250919T090000Z
DTEND:20250919T104000Z
SUMMARY:Основы теории управления
LOCATION:3 к. 217
END:VEVENT
BEGIN:VEVENT
UID:ggko@192.168.245.71:3006
SEQUENCE:0
DTSTAMP:20260424T233703Z
DTSTART:20250919T110000Z
DTEND:20250919T124000Z
SUMMARY:Основы теории управления
LOCATION:3 к. 217
END:VEVENT
BEGIN:VEVENT
UID:82ru@192.168.245.71:3006
SEQUENCE:0
DTSTAMP:20260424T233703Z
DTSTART:20250919T130000Z
DTEND:20250919T144000Z
SUMMARY:Основы теории управления
LOCATION:3 к. 215
END:VEVENT
BEGIN:VEVENT
UID:oaa9@192.168.245.71:3006
SEQUENCE:0
DTSTAMP:20260424T233703Z
DTSTART:20250919T150000Z
DTEND:20250919T164000Z
SUMMARY:Объектно-ориентированное программирование
LOCATION:DL Дистанционно
END:VEVENT
BEGIN:VEVENT
UID:v551@192.168.245.71:3006
SEQUENCE:0
DTSTAMP:20260424T233703Z
DTSTART:20250919T150000Z
DTEND:20250919T164000Z
SUMMARY:Объектно-ориентированное программирование
LOCATION:DL Дистанционно
END:VEVENT
END:VCALENDAR