BEGIN:VCALENDAR
VERSION:2.0
PRODID:-//spbstu.ru//ical//RU
NAME:Расписание
X-WR-CALNAME:Расписание
TIMEZONE-ID:Europe/Moscow
X-WR-TIMEZONE:Europe/Moscow
BEGIN:VEVENT
UID:cyd3@192.168.245.71:3006
SEQUENCE:0
DTSTAMP:20260422T055554Z
DTSTART:20260505T090000Z
DTEND:20260505T104000Z
SUMMARY:Экономика недвижимости (на английском языке)
LOCATION:ГК-2 207а
END:VEVENT
BEGIN:VEVENT
UID:lnvu@192.168.245.71:3006
SEQUENCE:0
DTSTAMP:20260422T055554Z
DTSTART:20260505T110000Z
DTEND:20260505T124000Z
SUMMARY:Экономика недвижимости (на английском языке)
LOCATION:ГК-2 207а
END:VEVENT
BEGIN:VEVENT
UID:2raa@192.168.245.71:3006
SEQUENCE:0
DTSTAMP:20260422T055554Z
DTSTART:20260506T090000Z
DTEND:20260506T104000Z
SUMMARY:Теоретические основы возобновляемой энергетики
LOCATION:ГК-2 207а
END:VEVENT
BEGIN:VEVENT
UID:v34z@192.168.245.71:3006
SEQUENCE:0
DTSTAMP:20260422T055554Z
DTSTART:20260506T110000Z
DTEND:20260506T124000Z
SUMMARY:Теоретические основы возобновляемой энергетики
LOCATION:ГК-2 207а
END:VEVENT
END:VCALENDAR