BEGIN:VCALENDAR
VERSION:2.0
PRODID:-//spbstu.ru//ical//RU
NAME:Расписание
X-WR-CALNAME:Расписание
TIMEZONE-ID:Europe/Moscow
X-WR-TIMEZONE:Europe/Moscow
BEGIN:VEVENT
UID:it48@192.168.245.71:3006
SEQUENCE:0
DTSTAMP:20260424T181758Z
DTSTART:20251008T081500Z
DTEND:20251008T103000Z
SUMMARY:Русский язык как иностранный. Язык специальности
LOCATION:15 к. 411
END:VEVENT
BEGIN:VEVENT
UID:1lly@192.168.245.71:3006
SEQUENCE:0
DTSTAMP:20260424T181758Z
DTSTART:20251008T110000Z
DTEND:20251008T123000Z
SUMMARY:Русский язык как иностранный: деловая коммуникация
LOCATION:15 к. 411
END:VEVENT
BEGIN:VEVENT
UID:cy08@192.168.245.71:3006
SEQUENCE:0
DTSTAMP:20260424T181758Z
DTSTART:20251008T130000Z
DTEND:20251008T151500Z
SUMMARY:Русский язык как иностранный. Язык специальности
LOCATION:15 к. 411
END:VEVENT
BEGIN:VEVENT
UID:7u3a@192.168.245.71:3006
SEQUENCE:0
DTSTAMP:20260424T181758Z
DTSTART:20251009T070000Z
DTEND:20251009T083000Z
SUMMARY:Русский язык как иностранный: деловая коммуникация
LOCATION:15 к. 411
END:VEVENT
BEGIN:VEVENT
UID:8rtj@192.168.245.71:3006
SEQUENCE:0
DTSTAMP:20260424T181758Z
DTSTART:20251009T090000Z
DTEND:20251009T103000Z
SUMMARY:Русский язык как иностранный: деловая коммуникация
LOCATION:15 к. 411
END:VEVENT
BEGIN:VEVENT
UID:vlec@192.168.245.71:3006
SEQUENCE:0
DTSTAMP:20260424T181758Z
DTSTART:20251009T110000Z
DTEND:20251009T131500Z
SUMMARY:Русский язык как иностранный. Язык специальности
LOCATION:15 к. 411
END:VEVENT
END:VCALENDAR