BEGIN:VCALENDAR
VERSION:2.0
PRODID:-//spbstu.ru//ical//RU
NAME:Расписание
X-WR-CALNAME:Расписание
TIMEZONE-ID:Europe/Moscow
X-WR-TIMEZONE:Europe/Moscow
BEGIN:VEVENT
UID:1syv@192.168.245.71:3006
SEQUENCE:0
DTSTAMP:20260421T141617Z
DTSTART:20260317T070000Z
DTEND:20260317T083000Z
SUMMARY:Карьерная адаптивность: Русский язык как иностранный
LOCATION:15 к. 414
END:VEVENT
BEGIN:VEVENT
UID:2sxa@192.168.245.71:3006
SEQUENCE:0
DTSTAMP:20260421T141617Z
DTSTART:20260317T090000Z
DTEND:20260317T103000Z
SUMMARY:Карьерная адаптивность: Русский язык как иностранный
LOCATION:15 к. 414
END:VEVENT
BEGIN:VEVENT
UID:uoc4@192.168.245.71:3006
SEQUENCE:0
DTSTAMP:20260421T141617Z
DTSTART:20260318T070000Z
DTEND:20260318T083000Z
SUMMARY:Карьерная адаптивность: Русский язык как иностранный
LOCATION:15 к. 414
END:VEVENT
BEGIN:VEVENT
UID:dr77@192.168.245.71:3006
SEQUENCE:0
DTSTAMP:20260421T141617Z
DTSTART:20260318T090000Z
DTEND:20260318T103000Z
SUMMARY:Карьерная адаптивность: Русский язык как иностранный
LOCATION:15 к. 414
END:VEVENT
BEGIN:VEVENT
UID:9kbg@192.168.245.71:3006
SEQUENCE:0
DTSTAMP:20260421T141617Z
DTSTART:20260321T070000Z
DTEND:20260321T083000Z
SUMMARY:Карьерная адаптивность: Русский язык как иностранный
LOCATION:15 к. 414
END:VEVENT
BEGIN:VEVENT
UID:pie3@192.168.245.71:3006
SEQUENCE:0
DTSTAMP:20260421T141617Z
DTSTART:20260321T090000Z
DTEND:20260321T103000Z
SUMMARY:Карьерная адаптивность: Русский язык как иностранный
LOCATION:15 к. 414
END:VEVENT
END:VCALENDAR