BEGIN:VCALENDAR
VERSION:2.0
PRODID:-//spbstu.ru//ical//RU
NAME:Расписание
X-WR-CALNAME:Расписание
TIMEZONE-ID:Europe/Moscow
X-WR-TIMEZONE:Europe/Moscow
BEGIN:VEVENT
UID:48wr@192.168.245.71:3006
SEQUENCE:0
DTSTAMP:20260421T123003Z
DTSTART:20260519T070000Z
DTEND:20260519T083000Z
SUMMARY:Карьерная адаптивность: Русский язык как иностранный
LOCATION:15 к. 414
END:VEVENT
BEGIN:VEVENT
UID:3go1@192.168.245.71:3006
SEQUENCE:0
DTSTAMP:20260421T123003Z
DTSTART:20260519T090000Z
DTEND:20260519T103000Z
SUMMARY:Карьерная адаптивность: Русский язык как иностранный
LOCATION:15 к. 414
END:VEVENT
BEGIN:VEVENT
UID:ql2h@192.168.245.71:3006
SEQUENCE:0
DTSTAMP:20260421T123003Z
DTSTART:20260520T070000Z
DTEND:20260520T083000Z
SUMMARY:Карьерная адаптивность: Русский язык как иностранный
LOCATION:15 к. 414
END:VEVENT
BEGIN:VEVENT
UID:zhtt@192.168.245.71:3006
SEQUENCE:0
DTSTAMP:20260421T123003Z
DTSTART:20260520T090000Z
DTEND:20260520T103000Z
SUMMARY:Карьерная адаптивность: Русский язык как иностранный
LOCATION:15 к. 414
END:VEVENT
BEGIN:VEVENT
UID:ysy2@192.168.245.71:3006
SEQUENCE:0
DTSTAMP:20260421T123003Z
DTSTART:20260523T070000Z
DTEND:20260523T083000Z
SUMMARY:Карьерная адаптивность: Русский язык как иностранный
LOCATION:15 к. 414
END:VEVENT
BEGIN:VEVENT
UID:zvj7@192.168.245.71:3006
SEQUENCE:0
DTSTAMP:20260421T123003Z
DTSTART:20260523T090000Z
DTEND:20260523T103000Z
SUMMARY:Карьерная адаптивность: Русский язык как иностранный
LOCATION:15 к. 414
END:VEVENT
END:VCALENDAR