BEGIN:VCALENDAR
VERSION:2.0
PRODID:-//spbstu.ru//ical//RU
NAME:Расписание
X-WR-CALNAME:Расписание
TIMEZONE-ID:Europe/Moscow
X-WR-TIMEZONE:Europe/Moscow
BEGIN:VEVENT
UID:5tkl@192.168.245.71:3006
SEQUENCE:0
DTSTAMP:20260425T022906Z
DTSTART:20251105T070000Z
DTEND:20251105T084000Z
SUMMARY:Языки описания аппаратных средств вычислительных систем
LOCATION:3 к. 410
END:VEVENT
BEGIN:VEVENT
UID:qjkg@192.168.245.71:3006
SEQUENCE:0
DTSTAMP:20260425T022906Z
DTSTART:20251105T070000Z
DTEND:20251105T084000Z
SUMMARY:Языки описания аппаратных средств вычислительных систем
LOCATION:3 к. 410
END:VEVENT
BEGIN:VEVENT
UID:3btv@192.168.245.71:3006
SEQUENCE:0
DTSTAMP:20260425T022906Z
DTSTART:20251105T090000Z
DTEND:20251105T104000Z
SUMMARY:Языки описания аппаратных средств вычислительных систем
LOCATION:3 к. 410
END:VEVENT
BEGIN:VEVENT
UID:lkpq@192.168.245.71:3006
SEQUENCE:0
DTSTAMP:20260425T022906Z
DTSTART:20251105T090000Z
DTEND:20251105T104000Z
SUMMARY:Языки описания аппаратных средств вычислительных систем
LOCATION:3 к. 410
END:VEVENT
BEGIN:VEVENT
UID:40e2@192.168.245.71:3006
SEQUENCE:0
DTSTAMP:20260425T022906Z
DTSTART:20251106T070000Z
DTEND:20251106T084000Z
SUMMARY:Языки описания аппаратных средств вычислительных систем
LOCATION:3 к. 410
END:VEVENT
BEGIN:VEVENT
UID:uymy@192.168.245.71:3006
SEQUENCE:0
DTSTAMP:20260425T022906Z
DTSTART:20251106T070000Z
DTEND:20251106T084000Z
SUMMARY:Языки описания аппаратных средств вычислительных систем
LOCATION:3 к. 410
END:VEVENT
BEGIN:VEVENT
UID:npnv@192.168.245.71:3006
SEQUENCE:0
DTSTAMP:20260425T022906Z
DTSTART:20251106T090000Z
DTEND:20251106T104000Z
SUMMARY:Языки описания аппаратных средств вычислительных систем
LOCATION:3 к. 410
END:VEVENT
BEGIN:VEVENT
UID:88u5@192.168.245.71:3006
SEQUENCE:0
DTSTAMP:20260425T022906Z
DTSTART:20251106T090000Z
DTEND:20251106T104000Z
SUMMARY:Языки описания аппаратных средств вычислительных систем
LOCATION:3 к. 410
END:VEVENT
END:VCALENDAR