BEGIN:VCALENDAR
VERSION:2.0
PRODID:-//spbstu.ru//ical//RU
NAME:Расписание
X-WR-CALNAME:Расписание
TIMEZONE-ID:Europe/Moscow
X-WR-TIMEZONE:Europe/Moscow
BEGIN:VEVENT
UID:yg91@192.168.245.71:3006
SEQUENCE:0
DTSTAMP:20260424T011256Z
DTSTART:20251215T070000Z
DTEND:20251215T084000Z
SUMMARY:Управление программными проектами
LOCATION:11 к. 344
END:VEVENT
BEGIN:VEVENT
UID:yxze@192.168.245.71:3006
SEQUENCE:0
DTSTAMP:20260424T011256Z
DTSTART:20251215T090000Z
DTEND:20251215T104000Z
SUMMARY:Управление программными проектами
LOCATION:11 к. 344
END:VEVENT
BEGIN:VEVENT
UID:36rj@192.168.245.71:3006
SEQUENCE:0
DTSTAMP:20260424T011256Z
DTSTART:20251215T110000Z
DTEND:20251215T124000Z
SUMMARY:Теория и технологии программирования
LOCATION:Мех. к. БМ
END:VEVENT
BEGIN:VEVENT
UID:a9yl@192.168.245.71:3006
SEQUENCE:0
DTSTAMP:20260424T011256Z
DTSTART:20251218T090000Z
DTEND:20251218T104000Z
SUMMARY:Управление программными проектами
LOCATION:11 к. 345
END:VEVENT
BEGIN:VEVENT
UID:9eoc@192.168.245.71:3006
SEQUENCE:0
DTSTAMP:20260424T011256Z
DTSTART:20251218T110000Z
DTEND:20251218T124000Z
SUMMARY:Управление программными проектами
LOCATION:11 к. 345
END:VEVENT
BEGIN:VEVENT
UID:7t35@192.168.245.71:3006
SEQUENCE:0
DTSTAMP:20260424T011256Z
DTSTART:20251218T130000Z
DTEND:20251218T144000Z
SUMMARY:Управление программными проектами
LOCATION:11 к. 345
END:VEVENT
END:VCALENDAR