BEGIN:VCALENDAR
VERSION:2.0
PRODID:-//spbstu.ru//ical//RU
NAME:Расписание
X-WR-CALNAME:Расписание
TIMEZONE-ID:Europe/Moscow
X-WR-TIMEZONE:Europe/Moscow
BEGIN:VEVENT
UID:8d9d@192.168.245.71:3006
SEQUENCE:0
DTSTAMP:20260421T031715Z
DTSTART:20260407T090000Z
DTEND:20260407T104000Z
SUMMARY:Теория и технологии программирования
LOCATION:ГЗ 153
END:VEVENT
BEGIN:VEVENT
UID:o1ql@192.168.245.71:3006
SEQUENCE:0
DTSTAMP:20260421T031715Z
DTSTART:20260407T110000Z
DTEND:20260407T124000Z
SUMMARY:Теория и технологии программирования
LOCATION:11 к. 344
END:VEVENT
BEGIN:VEVENT
UID:eydv@192.168.245.71:3006
SEQUENCE:0
DTSTAMP:20260421T031715Z
DTSTART:20260408T070000Z
DTEND:20260408T084000Z
SUMMARY:Управление программными проектами
LOCATION:DL Дистанционно
END:VEVENT
BEGIN:VEVENT
UID:5yoh@192.168.245.71:3006
SEQUENCE:0
DTSTAMP:20260421T031715Z
DTSTART:20260410T070000Z
DTEND:20260410T084000Z
SUMMARY:Теория и технологии программирования
LOCATION:11 к. 345
END:VEVENT
END:VCALENDAR