BEGIN:VCALENDAR
VERSION:2.0
PRODID:-//spbstu.ru//ical//RU
NAME:Расписание
X-WR-CALNAME:Расписание
TIMEZONE-ID:Europe/Moscow
X-WR-TIMEZONE:Europe/Moscow
BEGIN:VEVENT
UID:61y7@192.168.245.71:3006
SEQUENCE:0
DTSTAMP:20260425T003538Z
DTSTART:20251013T090000Z
DTEND:20251013T104000Z
SUMMARY:Теория электрических цепей
LOCATION:ГЗ 305
END:VEVENT
BEGIN:VEVENT
UID:6wey@192.168.245.71:3006
SEQUENCE:0
DTSTAMP:20260425T003538Z
DTSTART:20251015T110000Z
DTEND:20251015T124000Z
SUMMARY:Электротехника
LOCATION:ГЗ 265
END:VEVENT
BEGIN:VEVENT
UID:cpvq@192.168.245.71:3006
SEQUENCE:0
DTSTAMP:20260425T003538Z
DTSTART:20251015T130000Z
DTEND:20251015T144000Z
SUMMARY:Электротехника
LOCATION:ГЗ 265
END:VEVENT
BEGIN:VEVENT
UID:xvg6@192.168.245.71:3006
SEQUENCE:0
DTSTAMP:20260425T003538Z
DTSTART:20251016T070000Z
DTEND:20251016T084000Z
SUMMARY:Теория электрических цепей
LOCATION:ГЗ 305
END:VEVENT
END:VCALENDAR