BEGIN:VCALENDAR
VERSION:2.0
PRODID:-//spbstu.ru//ical//RU
NAME:Расписание
X-WR-CALNAME:Расписание
TIMEZONE-ID:Europe/Moscow
X-WR-TIMEZONE:Europe/Moscow
BEGIN:VEVENT
UID:d5as@192.168.245.71:3006
SEQUENCE:0
DTSTAMP:20260424T082251Z
DTSTART:20251027T090000Z
DTEND:20251027T104000Z
SUMMARY:Теория электрических цепей
LOCATION:ГЗ 305
END:VEVENT
BEGIN:VEVENT
UID:4ixs@192.168.245.71:3006
SEQUENCE:0
DTSTAMP:20260424T082251Z
DTSTART:20251029T110000Z
DTEND:20251029T124000Z
SUMMARY:Электротехника
LOCATION:ГЗ 265
END:VEVENT
BEGIN:VEVENT
UID:bxoy@192.168.245.71:3006
SEQUENCE:0
DTSTAMP:20260424T082251Z
DTSTART:20251029T130000Z
DTEND:20251029T144000Z
SUMMARY:Электротехника
LOCATION:ГЗ 265
END:VEVENT
BEGIN:VEVENT
UID:bid9@192.168.245.71:3006
SEQUENCE:0
DTSTAMP:20260424T082251Z
DTSTART:20251030T070000Z
DTEND:20251030T084000Z
SUMMARY:Теория электрических цепей
LOCATION:ГЗ 305
END:VEVENT
END:VCALENDAR