BEGIN:VCALENDAR
VERSION:2.0
PRODID:-//spbstu.ru//ical//RU
NAME:Расписание
X-WR-CALNAME:Расписание
TIMEZONE-ID:Europe/Moscow
X-WR-TIMEZONE:Europe/Moscow
BEGIN:VEVENT
UID:wzuo@192.168.245.71:3006
SEQUENCE:0
DTSTAMP:20260425T143310Z
DTSTART:20250908T090000Z
DTEND:20250908T104000Z
SUMMARY:Теория электрических цепей
LOCATION:ГЗ 305
END:VEVENT
BEGIN:VEVENT
UID:7fr0@192.168.245.71:3006
SEQUENCE:0
DTSTAMP:20260425T143310Z
DTSTART:20250910T110000Z
DTEND:20250910T124000Z
SUMMARY:Электротехника
LOCATION:ГЗ 265
END:VEVENT
BEGIN:VEVENT
UID:927l@192.168.245.71:3006
SEQUENCE:0
DTSTAMP:20260425T143310Z
DTSTART:20250910T130000Z
DTEND:20250910T144000Z
SUMMARY:Электротехника
LOCATION:ГЗ 265
END:VEVENT
BEGIN:VEVENT
UID:995f@192.168.245.71:3006
SEQUENCE:0
DTSTAMP:20260425T143310Z
DTSTART:20250912T070000Z
DTEND:20250912T084000Z
SUMMARY:Теория электрических цепей
LOCATION:2 к. 224
END:VEVENT
END:VCALENDAR