BEGIN:VCALENDAR
VERSION:2.0
PRODID:-//spbstu.ru//ical//RU
NAME:Расписание
X-WR-CALNAME:Расписание
TIMEZONE-ID:Europe/Moscow
X-WR-TIMEZONE:Europe/Moscow
BEGIN:VEVENT
UID:ewgh@192.168.245.71:3006
SEQUENCE:0
DTSTAMP:20260421T082048Z
DTSTART:20260427T110000Z
DTEND:20260427T124000Z
SUMMARY:Радиотехнические цепи и сигналы
LOCATION:2 к. 353
END:VEVENT
BEGIN:VEVENT
UID:xc4c@192.168.245.71:3006
SEQUENCE:0
DTSTAMP:20260421T082048Z
DTSTART:20260429T100000Z
DTEND:20260429T130000Z
SUMMARY:Специальные вопросы радиофизики
LOCATION:2 к. 257
END:VEVENT
BEGIN:VEVENT
UID:3jq5@192.168.245.71:3006
SEQUENCE:0
DTSTAMP:20260421T082048Z
DTSTART:20260429T130000Z
DTEND:20260429T144000Z
SUMMARY:Радиотехнические цепи и сигналы
LOCATION:2 к. 459
END:VEVENT
BEGIN:VEVENT
UID:whtv@192.168.245.71:3006
SEQUENCE:0
DTSTAMP:20260421T082048Z
DTSTART:20260430T070000Z
DTEND:20260430T084000Z
SUMMARY:Экспериментальные методы исследования
LOCATION:2 к. 355
END:VEVENT
BEGIN:VEVENT
UID:uosj@192.168.245.71:3006
SEQUENCE:0
DTSTAMP:20260421T082048Z
DTSTART:20260430T130000Z
DTEND:20260430T144000Z
SUMMARY:Экспериментальные методы исследования
LOCATION:2 к. 355
END:VEVENT
END:VCALENDAR