BEGIN:VCALENDAR
VERSION:2.0
PRODID:-//spbstu.ru//ical//RU
NAME:Расписание
X-WR-CALNAME:Расписание
TIMEZONE-ID:Europe/Moscow
X-WR-TIMEZONE:Europe/Moscow
BEGIN:VEVENT
UID:sl83@192.168.245.71:3006
SEQUENCE:0
DTSTAMP:20260425T222350Z
DTSTART:20251027T090000Z
DTEND:20251027T104000Z
SUMMARY:Гидравлика
LOCATION:3 к. 100
END:VEVENT
BEGIN:VEVENT
UID:lfy7@192.168.245.71:3006
SEQUENCE:0
DTSTAMP:20260425T222350Z
DTSTART:20251028T090000Z
DTEND:20251028T104000Z
SUMMARY:Гидравлика
LOCATION:3 к. 100
END:VEVENT
BEGIN:VEVENT
UID:3z7w@192.168.245.71:3006
SEQUENCE:0
DTSTAMP:20260425T222350Z
DTSTART:20251028T090000Z
DTEND:20251028T104000Z
SUMMARY:Гидравлика
LOCATION:3 к. 100
END:VEVENT
BEGIN:VEVENT
UID:epbf@192.168.245.71:3006
SEQUENCE:0
DTSTAMP:20260425T222350Z
DTSTART:20251029T090000Z
DTEND:20251029T104000Z
SUMMARY:Базовые машины
LOCATION:3 к. 100
END:VEVENT
BEGIN:VEVENT
UID:12y5@192.168.245.71:3006
SEQUENCE:0
DTSTAMP:20260425T222350Z
DTSTART:20251029T110000Z
DTEND:20251029T124000Z
SUMMARY:Гидропневмопривод
LOCATION:3 к. 100
END:VEVENT
BEGIN:VEVENT
UID:48zf@192.168.245.71:3006
SEQUENCE:0
DTSTAMP:20260425T222350Z
DTSTART:20251030T090000Z
DTEND:20251030T104000Z
SUMMARY:Гидропневмопривод
LOCATION:3 к. 100
END:VEVENT
BEGIN:VEVENT
UID:zmnp@192.168.245.71:3006
SEQUENCE:0
DTSTAMP:20260425T222350Z
DTSTART:20251030T090000Z
DTEND:20251030T104000Z
SUMMARY:Гидропневмопривод
LOCATION:3 к. 100
END:VEVENT
BEGIN:VEVENT
UID:trj3@192.168.245.71:3006
SEQUENCE:0
DTSTAMP:20260425T222350Z
DTSTART:20251030T090000Z
DTEND:20251030T104000Z
SUMMARY:Гидропневмопривод
LOCATION:3 к. 100
END:VEVENT
BEGIN:VEVENT
UID:cgxf@192.168.245.71:3006
SEQUENCE:0
DTSTAMP:20260425T222350Z
DTSTART:20251030T110000Z
DTEND:20251030T124000Z
SUMMARY:Гидропневмопривод
LOCATION:3 к. 100
END:VEVENT
END:VCALENDAR