BEGIN:VCALENDAR
VERSION:2.0
PRODID:-//spbstu.ru//ical//RU
NAME:Расписание
X-WR-CALNAME:Расписание
TIMEZONE-ID:Europe/Moscow
X-WR-TIMEZONE:Europe/Moscow
BEGIN:VEVENT
UID:204w@192.168.245.71:3006
SEQUENCE:0
DTSTAMP:20260423T033816Z
DTSTART:20251124T090000Z
DTEND:20251124T104000Z
SUMMARY:Гидравлика
LOCATION:3 к. 100
END:VEVENT
BEGIN:VEVENT
UID:vfk9@192.168.245.71:3006
SEQUENCE:0
DTSTAMP:20260423T033816Z
DTSTART:20251124T110000Z
DTEND:20251124T124000Z
SUMMARY:Гидропневмопривод
LOCATION:3 к. 100
END:VEVENT
BEGIN:VEVENT
UID:be01@192.168.245.71:3006
SEQUENCE:0
DTSTAMP:20260423T033816Z
DTSTART:20251124T140000Z
DTEND:20251124T154000Z
SUMMARY:Гидропневмопривод
LOCATION:3 к. 100
END:VEVENT
BEGIN:VEVENT
UID:ti58@192.168.245.71:3006
SEQUENCE:0
DTSTAMP:20260423T033816Z
DTSTART:20251125T090000Z
DTEND:20251125T104000Z
SUMMARY:Гидравлика
LOCATION:3 к. 100
END:VEVENT
BEGIN:VEVENT
UID:ptnn@192.168.245.71:3006
SEQUENCE:0
DTSTAMP:20260423T033816Z
DTSTART:20251125T090000Z
DTEND:20251125T104000Z
SUMMARY:Гидравлика
LOCATION:3 к. 100
END:VEVENT
BEGIN:VEVENT
UID:qk7v@192.168.245.71:3006
SEQUENCE:0
DTSTAMP:20260423T033816Z
DTSTART:20251126T090000Z
DTEND:20251126T104000Z
SUMMARY:Базовые машины
LOCATION:3 к. 100
END:VEVENT
BEGIN:VEVENT
UID:63zn@192.168.245.71:3006
SEQUENCE:0
DTSTAMP:20260423T033816Z
DTSTART:20251126T110000Z
DTEND:20251126T124000Z
SUMMARY:Гидропневмопривод
LOCATION:3 к. 100
END:VEVENT
BEGIN:VEVENT
UID:ubkh@192.168.245.71:3006
SEQUENCE:0
DTSTAMP:20260423T033816Z
DTSTART:20251127T090000Z
DTEND:20251127T104000Z
SUMMARY:Гидропневмопривод
LOCATION:3 к. 100
END:VEVENT
BEGIN:VEVENT
UID:kdz0@192.168.245.71:3006
SEQUENCE:0
DTSTAMP:20260423T033816Z
DTSTART:20251127T090000Z
DTEND:20251127T104000Z
SUMMARY:Гидропневмопривод
LOCATION:3 к. 100
END:VEVENT
BEGIN:VEVENT
UID:s5mu@192.168.245.71:3006
SEQUENCE:0
DTSTAMP:20260423T033816Z
DTSTART:20251127T090000Z
DTEND:20251127T104000Z
SUMMARY:Гидропневмопривод
LOCATION:3 к. 100
END:VEVENT
BEGIN:VEVENT
UID:tyeu@192.168.245.71:3006
SEQUENCE:0
DTSTAMP:20260423T033816Z
DTSTART:20251127T110000Z
DTEND:20251127T124000Z
SUMMARY:Гидропневмопривод
LOCATION:3 к. 100
END:VEVENT
END:VCALENDAR