BEGIN:VCALENDAR
VERSION:2.0
PRODID:-//spbstu.ru//ical//RU
NAME:Расписание
X-WR-CALNAME:Расписание
TIMEZONE-ID:Europe/Moscow
X-WR-TIMEZONE:Europe/Moscow
BEGIN:VEVENT
UID:7tiv@192.168.245.71:3006
SEQUENCE:0
DTSTAMP:20260422T034437Z
DTSTART:20260203T070000Z
DTEND:20260203T084000Z
SUMMARY:Гидропневмопривод
LOCATION:3 к. 100
END:VEVENT
BEGIN:VEVENT
UID:lqow@192.168.245.71:3006
SEQUENCE:0
DTSTAMP:20260422T034437Z
DTSTART:20260203T090000Z
DTEND:20260203T104000Z
SUMMARY:Гидропневмопривод
LOCATION:3 к. 100
END:VEVENT
BEGIN:VEVENT
UID:mo9e@192.168.245.71:3006
SEQUENCE:0
DTSTAMP:20260422T034437Z
DTSTART:20260204T070000Z
DTEND:20260204T084000Z
SUMMARY:Гидропневмопривод
LOCATION:3 к. 100
END:VEVENT
BEGIN:VEVENT
UID:wgmx@192.168.245.71:3006
SEQUENCE:0
DTSTAMP:20260422T034437Z
DTSTART:20260204T090000Z
DTEND:20260204T104000Z
SUMMARY:Управление научным проектом
LOCATION:3 к. 100
END:VEVENT
END:VCALENDAR