BEGIN:VCALENDAR
VERSION:2.0
PRODID:-//spbstu.ru//ical//RU
NAME:Расписание
X-WR-CALNAME:Расписание
TIMEZONE-ID:Europe/Moscow
X-WR-TIMEZONE:Europe/Moscow
BEGIN:VEVENT
UID:yaxs@192.168.245.71:3006
SEQUENCE:0
DTSTAMP:20260421T063520Z
DTSTART:20260415T070000Z
DTEND:20260415T084000Z
SUMMARY:Гидравлика
LOCATION:3 к. 100
END:VEVENT
BEGIN:VEVENT
UID:2e6k@192.168.245.71:3006
SEQUENCE:0
DTSTAMP:20260421T063520Z
DTSTART:20260415T090000Z
DTEND:20260415T104000Z
SUMMARY:Управление научным проектом
LOCATION:3 к. 100
END:VEVENT
BEGIN:VEVENT
UID:doj2@192.168.245.71:3006
SEQUENCE:0
DTSTAMP:20260421T063520Z
DTSTART:20260415T110000Z
DTEND:20260415T124000Z
SUMMARY:Гидропневмопривод
LOCATION:3 к. 100
END:VEVENT
BEGIN:VEVENT
UID:elex@192.168.245.71:3006
SEQUENCE:0
DTSTAMP:20260421T063520Z
DTSTART:20260416T090000Z
DTEND:20260416T104000Z
SUMMARY:Гидропневмопривод
LOCATION:ЛабК комп.класс ВШТ
END:VEVENT
BEGIN:VEVENT
UID:6d9f@192.168.245.71:3006
SEQUENCE:0
DTSTAMP:20260421T063520Z
DTSTART:20260416T110000Z
DTEND:20260416T124000Z
SUMMARY:Гидропневмопривод
LOCATION:ЛабК 85 ВШТ
END:VEVENT
END:VCALENDAR