BEGIN:VCALENDAR
VERSION:2.0
PRODID:-//spbstu.ru//ical//RU
NAME:Расписание
X-WR-CALNAME:Расписание
TIMEZONE-ID:Europe/Moscow
X-WR-TIMEZONE:Europe/Moscow
BEGIN:VEVENT
UID:xagj@192.168.245.71:3006
SEQUENCE:0
DTSTAMP:20260421T110033Z
DTSTART:20260520T090000Z
DTEND:20260520T104000Z
SUMMARY:Управление научным проектом
LOCATION:3 к. 100
END:VEVENT
END:VCALENDAR