BEGIN:VCALENDAR
VERSION:2.0
PRODID:-//spbstu.ru//ical//RU
NAME:Расписание
X-WR-CALNAME:Расписание
TIMEZONE-ID:Europe/Moscow
X-WR-TIMEZONE:Europe/Moscow
BEGIN:VEVENT
UID:8lub@192.168.245.71:3006
SEQUENCE:0
DTSTAMP:20260424T201318Z
DTSTART:20251013T050000Z
DTEND:20251013T064000Z
SUMMARY:Письменная деловая коммуникация (на иностранном языке)
LOCATION:9 к. 216
END:VEVENT
BEGIN:VEVENT
UID:mgca@192.168.245.71:3006
SEQUENCE:0
DTSTAMP:20260424T201318Z
DTSTART:20251013T070000Z
DTEND:20251013T084000Z
SUMMARY:Письменная деловая коммуникация (на иностранном языке)
LOCATION:9 к. 216
END:VEVENT
BEGIN:VEVENT
UID:9qi4@192.168.245.71:3006
SEQUENCE:0
DTSTAMP:20260424T201318Z
DTSTART:20251013T090000Z
DTEND:20251013T104000Z
SUMMARY:Письменная деловая коммуникация (на иностранном языке)
LOCATION:9 к. 329
END:VEVENT
BEGIN:VEVENT
UID:1q1y@192.168.245.71:3006
SEQUENCE:0
DTSTAMP:20260424T201318Z
DTSTART:20251014T090000Z
DTEND:20251014T104000Z
SUMMARY:Иностранный язык: Базовый курс
LOCATION:5 к. 102
END:VEVENT
BEGIN:VEVENT
UID:qulx@192.168.245.71:3006
SEQUENCE:0
DTSTAMP:20260424T201318Z
DTSTART:20251014T130000Z
DTEND:20251014T144000Z
SUMMARY:Письменная деловая коммуникация (на иностранном языке)
LOCATION:9 к. 518
END:VEVENT
BEGIN:VEVENT
UID:n76y@192.168.245.71:3006
SEQUENCE:0
DTSTAMP:20260424T201318Z
DTSTART:20251017T090000Z
DTEND:20251017T104000Z
SUMMARY:Иностранный язык: Базовый курс
LOCATION:ГК-2 503
END:VEVENT
BEGIN:VEVENT
UID:rxbm@192.168.245.71:3006
SEQUENCE:0
DTSTAMP:20260424T201318Z
DTSTART:20251018T110000Z
DTEND:20251018T124000Z
SUMMARY:Иностранный язык: Базовый курс
LOCATION:ГЗ 220
END:VEVENT
BEGIN:VEVENT
UID:qx8p@192.168.245.71:3006
SEQUENCE:0
DTSTAMP:20260424T201318Z
DTSTART:20251018T130000Z
DTEND:20251018T144000Z
SUMMARY:Иностранный язык: Базовый курс
LOCATION:ГЗ 226
END:VEVENT
END:VCALENDAR