BEGIN:VCALENDAR
VERSION:2.0
PRODID:-//spbstu.ru//ical//RU
NAME:Расписание
X-WR-CALNAME:Расписание
TIMEZONE-ID:Europe/Moscow
X-WR-TIMEZONE:Europe/Moscow
BEGIN:VEVENT
UID:05ms@192.168.245.71:3006
SEQUENCE:0
DTSTAMP:20260424T181956Z
DTSTART:20251027T050000Z
DTEND:20251027T064000Z
SUMMARY:Письменная деловая коммуникация (на иностранном языке)
LOCATION:9 к. 216
END:VEVENT
BEGIN:VEVENT
UID:b0m4@192.168.245.71:3006
SEQUENCE:0
DTSTAMP:20260424T181956Z
DTSTART:20251027T070000Z
DTEND:20251027T084000Z
SUMMARY:Письменная деловая коммуникация (на иностранном языке)
LOCATION:9 к. 216
END:VEVENT
BEGIN:VEVENT
UID:taed@192.168.245.71:3006
SEQUENCE:0
DTSTAMP:20260424T181956Z
DTSTART:20251027T090000Z
DTEND:20251027T104000Z
SUMMARY:Письменная деловая коммуникация (на иностранном языке)
LOCATION:9 к. 329
END:VEVENT
BEGIN:VEVENT
UID:eyh6@192.168.245.71:3006
SEQUENCE:0
DTSTAMP:20260424T181956Z
DTSTART:20251028T090000Z
DTEND:20251028T104000Z
SUMMARY:Иностранный язык: Базовый курс
LOCATION:5 к. 102
END:VEVENT
BEGIN:VEVENT
UID:bkp2@192.168.245.71:3006
SEQUENCE:0
DTSTAMP:20260424T181956Z
DTSTART:20251028T130000Z
DTEND:20251028T144000Z
SUMMARY:Письменная деловая коммуникация (на иностранном языке)
LOCATION:9 к. 518
END:VEVENT
BEGIN:VEVENT
UID:7od9@192.168.245.71:3006
SEQUENCE:0
DTSTAMP:20260424T181956Z
DTSTART:20251031T090000Z
DTEND:20251031T104000Z
SUMMARY:Иностранный язык: Базовый курс
LOCATION:ГК-2 503
END:VEVENT
BEGIN:VEVENT
UID:ni9y@192.168.245.71:3006
SEQUENCE:0
DTSTAMP:20260424T181956Z
DTSTART:20251101T110000Z
DTEND:20251101T124000Z
SUMMARY:Иностранный язык: Базовый курс
LOCATION:ГЗ 220
END:VEVENT
BEGIN:VEVENT
UID:1pff@192.168.245.71:3006
SEQUENCE:0
DTSTAMP:20260424T181956Z
DTSTART:20251101T130000Z
DTEND:20251101T144000Z
SUMMARY:Иностранный язык: Базовый курс
LOCATION:ГЗ 220
END:VEVENT
END:VCALENDAR