BEGIN:VCALENDAR
VERSION:2.0
PRODID:-//spbstu.ru//ical//RU
NAME:Расписание
X-WR-CALNAME:Расписание
TIMEZONE-ID:Europe/Moscow
X-WR-TIMEZONE:Europe/Moscow
BEGIN:VEVENT
UID:akxb@192.168.245.71:3006
SEQUENCE:0
DTSTAMP:20260424T143947Z
DTSTART:20251103T050000Z
DTEND:20251103T064000Z
SUMMARY:Письменная деловая коммуникация (на иностранном языке)
LOCATION:9 к. 216
END:VEVENT
BEGIN:VEVENT
UID:q3pg@192.168.245.71:3006
SEQUENCE:0
DTSTAMP:20260424T143947Z
DTSTART:20251103T070000Z
DTEND:20251103T084000Z
SUMMARY:Письменная деловая коммуникация (на иностранном языке)
LOCATION:9 к. 216
END:VEVENT
BEGIN:VEVENT
UID:igbs@192.168.245.71:3006
SEQUENCE:0
DTSTAMP:20260424T143947Z
DTSTART:20251103T090000Z
DTEND:20251103T104000Z
SUMMARY:Письменная деловая коммуникация (на иностранном языке)
LOCATION:9 к. 329
END:VEVENT
BEGIN:VEVENT
UID:qch5@192.168.245.71:3006
SEQUENCE:0
DTSTAMP:20260424T143947Z
DTSTART:20251107T090000Z
DTEND:20251107T104000Z
SUMMARY:Иностранный язык: Базовый курс
LOCATION:ГК-2 503
END:VEVENT
BEGIN:VEVENT
UID:3bxg@192.168.245.71:3006
SEQUENCE:0
DTSTAMP:20260424T143947Z
DTSTART:20251108T110000Z
DTEND:20251108T124000Z
SUMMARY:Иностранный язык: Базовый курс
LOCATION:ГЗ 220
END:VEVENT
BEGIN:VEVENT
UID:zpii@192.168.245.71:3006
SEQUENCE:0
DTSTAMP:20260424T143947Z
DTSTART:20251108T130000Z
DTEND:20251108T144000Z
SUMMARY:Иностранный язык: Базовый курс
LOCATION:ГЗ 220
END:VEVENT
END:VCALENDAR