BEGIN:VCALENDAR
VERSION:2.0
PRODID:-//spbstu.ru//ical//RU
NAME:Расписание
X-WR-CALNAME:Расписание
TIMEZONE-ID:Europe/Moscow
X-WR-TIMEZONE:Europe/Moscow
BEGIN:VEVENT
UID:zg1i@192.168.245.71:3006
SEQUENCE:0
DTSTAMP:20260424T233619Z
DTSTART:20250929T050000Z
DTEND:20250929T064000Z
SUMMARY:Письменная деловая коммуникация (на иностранном языке)
LOCATION:9 к. 216
END:VEVENT
BEGIN:VEVENT
UID:hw2z@192.168.245.71:3006
SEQUENCE:0
DTSTAMP:20260424T233619Z
DTSTART:20250929T070000Z
DTEND:20250929T084000Z
SUMMARY:Письменная деловая коммуникация (на иностранном языке)
LOCATION:9 к. 216
END:VEVENT
BEGIN:VEVENT
UID:ae0e@192.168.245.71:3006
SEQUENCE:0
DTSTAMP:20260424T233619Z
DTSTART:20250929T090000Z
DTEND:20250929T104000Z
SUMMARY:Письменная деловая коммуникация (на иностранном языке)
LOCATION:9 к. 329
END:VEVENT
BEGIN:VEVENT
UID:96u6@192.168.245.71:3006
SEQUENCE:0
DTSTAMP:20260424T233619Z
DTSTART:20250930T090000Z
DTEND:20250930T104000Z
SUMMARY:Иностранный язык: Базовый курс
LOCATION:5 к. 102
END:VEVENT
BEGIN:VEVENT
UID:iw02@192.168.245.71:3006
SEQUENCE:0
DTSTAMP:20260424T233619Z
DTSTART:20250930T130000Z
DTEND:20250930T144000Z
SUMMARY:Письменная деловая коммуникация (на иностранном языке)
LOCATION:9 к. 518
END:VEVENT
BEGIN:VEVENT
UID:phs2@192.168.245.71:3006
SEQUENCE:0
DTSTAMP:20260424T233619Z
DTSTART:20251003T090000Z
DTEND:20251003T104000Z
SUMMARY:Иностранный язык: Базовый курс
LOCATION:ГК-2 503
END:VEVENT
BEGIN:VEVENT
UID:d08e@192.168.245.71:3006
SEQUENCE:0
DTSTAMP:20260424T233619Z
DTSTART:20251004T110000Z
DTEND:20251004T124000Z
SUMMARY:Иностранный язык: Базовый курс
LOCATION:ГЗ 220
END:VEVENT
BEGIN:VEVENT
UID:wr3v@192.168.245.71:3006
SEQUENCE:0
DTSTAMP:20260424T233619Z
DTSTART:20251004T130000Z
DTEND:20251004T144000Z
SUMMARY:Иностранный язык: Базовый курс
LOCATION:ГЗ 226
END:VEVENT
END:VCALENDAR