BEGIN:VCALENDAR
VERSION:2.0
PRODID:-//spbstu.ru//ical//RU
NAME:Расписание
X-WR-CALNAME:Расписание
TIMEZONE-ID:Europe/Moscow
X-WR-TIMEZONE:Europe/Moscow
BEGIN:VEVENT
UID:1dll@192.168.245.71:3006
SEQUENCE:0
DTSTAMP:20260425T133822Z
DTSTART:20250908T050000Z
DTEND:20250908T064000Z
SUMMARY:Письменная деловая коммуникация (на иностранном языке)
LOCATION:9 к. 325
END:VEVENT
BEGIN:VEVENT
UID:b9yd@192.168.245.71:3006
SEQUENCE:0
DTSTAMP:20260425T133822Z
DTSTART:20250908T070000Z
DTEND:20250908T084000Z
SUMMARY:Письменная деловая коммуникация (на иностранном языке)
LOCATION:9 к. 325
END:VEVENT
BEGIN:VEVENT
UID:pfwi@192.168.245.71:3006
SEQUENCE:0
DTSTAMP:20260425T133822Z
DTSTART:20250908T090000Z
DTEND:20250908T104000Z
SUMMARY:Письменная деловая коммуникация (на иностранном языке)
LOCATION:9 к. 208
END:VEVENT
BEGIN:VEVENT
UID:tb1a@192.168.245.71:3006
SEQUENCE:0
DTSTAMP:20260425T133822Z
DTSTART:20250909T090000Z
DTEND:20250909T104000Z
SUMMARY:Иностранный язык: Базовый курс
LOCATION:5 к. 102
END:VEVENT
BEGIN:VEVENT
UID:g6ns@192.168.245.71:3006
SEQUENCE:0
DTSTAMP:20260425T133822Z
DTSTART:20250909T130000Z
DTEND:20250909T144000Z
SUMMARY:Письменная деловая коммуникация (на иностранном языке)
LOCATION:9 к. 518
END:VEVENT
BEGIN:VEVENT
UID:7pjl@192.168.245.71:3006
SEQUENCE:0
DTSTAMP:20260425T133822Z
DTSTART:20250912T090000Z
DTEND:20250912T104000Z
SUMMARY:Иностранный язык: Базовый курс
LOCATION:ГК-2 503
END:VEVENT
BEGIN:VEVENT
UID:50jp@192.168.245.71:3006
SEQUENCE:0
DTSTAMP:20260425T133822Z
DTSTART:20250913T110000Z
DTEND:20250913T124000Z
SUMMARY:Иностранный язык: Базовый курс
LOCATION:ГЗ 220
END:VEVENT
BEGIN:VEVENT
UID:fxpb@192.168.245.71:3006
SEQUENCE:0
DTSTAMP:20260425T133822Z
DTSTART:20250913T130000Z
DTEND:20250913T144000Z
SUMMARY:Иностранный язык: Базовый курс
LOCATION:ГЗ 226
END:VEVENT
END:VCALENDAR