BEGIN:VCALENDAR
VERSION:2.0
PRODID:-//spbstu.ru//ical//RU
NAME:Расписание
X-WR-CALNAME:Расписание
TIMEZONE-ID:Europe/Moscow
X-WR-TIMEZONE:Europe/Moscow
BEGIN:VEVENT
UID:naxx@192.168.245.71:3006
SEQUENCE:0
DTSTAMP:20260421T004617Z
DTSTART:20260323T110000Z
DTEND:20260323T124000Z
SUMMARY:Радиотехнические цепи и сигналы
LOCATION:2 к. 470
END:VEVENT
BEGIN:VEVENT
UID:snmf@192.168.245.71:3006
SEQUENCE:0
DTSTAMP:20260421T004617Z
DTSTART:20260326T090000Z
DTEND:20260326T104000Z
SUMMARY:Радиотехнические цепи и сигналы
LOCATION:2 к. 470
END:VEVENT
BEGIN:VEVENT
UID:l1dz@192.168.245.71:3006
SEQUENCE:0
DTSTAMP:20260421T004617Z
DTSTART:20260327T090000Z
DTEND:20260327T104000Z
SUMMARY:Оптические методы и устройства обработки информации
LOCATION:2 к. 346
END:VEVENT
END:VCALENDAR