BEGIN:VCALENDAR
VERSION:2.0
PRODID:-//spbstu.ru//ical//RU
NAME:Расписание
X-WR-CALNAME:Расписание
TIMEZONE-ID:Europe/Moscow
X-WR-TIMEZONE:Europe/Moscow
BEGIN:VEVENT
UID:ljmq@192.168.245.71:3006
SEQUENCE:0
DTSTAMP:20260423T141108Z
DTSTART:20251222T070000Z
DTEND:20251222T084000Z
SUMMARY:Основы российской государственности
LOCATION:50 уч.к 1324
END:VEVENT
BEGIN:VEVENT
UID:6okx@192.168.245.71:3006
SEQUENCE:0
DTSTAMP:20260423T141108Z
DTSTART:20251222T090000Z
DTEND:20251222T104000Z
SUMMARY:Основы российской государственности
LOCATION:50 уч.к 1324
END:VEVENT
BEGIN:VEVENT
UID:24ix@192.168.245.71:3006
SEQUENCE:0
DTSTAMP:20260423T141108Z
DTSTART:20251222T110000Z
DTEND:20251222T124000Z
SUMMARY:Основы российской государственности
LOCATION:50 уч.к 1324
END:VEVENT
BEGIN:VEVENT
UID:tkc6@192.168.245.71:3006
SEQUENCE:0
DTSTAMP:20260423T141108Z
DTSTART:20251222T130000Z
DTEND:20251222T150000Z
SUMMARY:Основы российской государственности
LOCATION:1 к. 413
END:VEVENT
BEGIN:VEVENT
UID:lf5f@192.168.245.71:3006
SEQUENCE:0
DTSTAMP:20260423T141108Z
DTSTART:20251223T060000Z
DTEND:20251223T064500Z
SUMMARY:Основы российской государственности
LOCATION:1 к. 413
END:VEVENT
BEGIN:VEVENT
UID:yqrx@192.168.245.71:3006
SEQUENCE:0
DTSTAMP:20260423T141108Z
DTSTART:20251223T060000Z
DTEND:20251223T064500Z
SUMMARY:Основы российской государственности
LOCATION:1 к. 413
END:VEVENT
BEGIN:VEVENT
UID:huhq@192.168.245.71:3006
SEQUENCE:0
DTSTAMP:20260423T141108Z
DTSTART:20251223T070000Z
DTEND:20251223T090000Z
SUMMARY:Основы российской государственности
LOCATION:1 к. 413
END:VEVENT
BEGIN:VEVENT
UID:z6i5@192.168.245.71:3006
SEQUENCE:0
DTSTAMP:20260423T141108Z
DTSTART:20251223T070000Z
DTEND:20251223T090000Z
SUMMARY:Основы российской государственности
LOCATION:1 к. 413
END:VEVENT
BEGIN:VEVENT
UID:4sey@192.168.245.71:3006
SEQUENCE:0
DTSTAMP:20260423T141108Z
DTSTART:20251223T110000Z
DTEND:20251223T124000Z
SUMMARY:Основы российской государственности
LOCATION:1 к. 421
END:VEVENT
BEGIN:VEVENT
UID:248t@192.168.245.71:3006
SEQUENCE:0
DTSTAMP:20260423T141108Z
DTSTART:20251223T130000Z
DTEND:20251223T144000Z
SUMMARY:Основы российской государственности
LOCATION:1 к. 421
END:VEVENT
BEGIN:VEVENT
UID:wico@192.168.245.71:3006
SEQUENCE:0
DTSTAMP:20260423T141108Z
DTSTART:20251223T150000Z
DTEND:20251223T154500Z
SUMMARY:Основы российской государственности
LOCATION:1 к. 413
END:VEVENT
BEGIN:VEVENT
UID:db23@192.168.245.71:3006
SEQUENCE:0
DTSTAMP:20260423T141108Z
DTSTART:20251224T070000Z
DTEND:20251224T090000Z
SUMMARY:Основы российской государственности
LOCATION:1 к. 413
END:VEVENT
BEGIN:VEVENT
UID:hb40@192.168.245.71:3006
SEQUENCE:0
DTSTAMP:20260423T141108Z
DTSTART:20251224T090000Z
DTEND:20251224T104000Z
SUMMARY:Основы российской государственности
LOCATION:1 к. 420
END:VEVENT
BEGIN:VEVENT
UID:kaq1@192.168.245.71:3006
SEQUENCE:0
DTSTAMP:20260423T141108Z
DTSTART:20251224T110000Z
DTEND:20251224T124000Z
SUMMARY:Основы российской государственности
LOCATION:1 к. 420
END:VEVENT
BEGIN:VEVENT
UID:ycox@192.168.245.71:3006
SEQUENCE:0
DTSTAMP:20260423T141108Z
DTSTART:20251224T130000Z
DTEND:20251224T134500Z
SUMMARY:Основы российской государственности
LOCATION:Хим. к. 51
END:VEVENT
BEGIN:VEVENT
UID:oolq@192.168.245.71:3006
SEQUENCE:0
DTSTAMP:20260423T141108Z
DTSTART:20251224T130000Z
DTEND:20251224T134500Z
SUMMARY:Основы российской государственности
LOCATION:Хим. к. 51
END:VEVENT
BEGIN:VEVENT
UID:xqep@192.168.245.71:3006
SEQUENCE:0
DTSTAMP:20260423T141108Z
DTSTART:20251224T130000Z
DTEND:20251224T134500Z
SUMMARY:Основы российской государственности
LOCATION:Хим. к. 51
END:VEVENT
BEGIN:VEVENT
UID:ri31@192.168.245.71:3006
SEQUENCE:0
DTSTAMP:20260423T141108Z
DTSTART:20251224T130000Z
DTEND:20251224T134500Z
SUMMARY:Основы российской государственности
LOCATION:Хим. к. 51
END:VEVENT
BEGIN:VEVENT
UID:utpx@192.168.245.71:3006
SEQUENCE:0
DTSTAMP:20260423T141108Z
DTSTART:20251225T060000Z
DTEND:20251225T080000Z
SUMMARY:Основы российской государственности
LOCATION:Хим. к. 51
END:VEVENT
BEGIN:VEVENT
UID:ox8s@192.168.245.71:3006
SEQUENCE:0
DTSTAMP:20260423T141108Z
DTSTART:20251225T080000Z
DTEND:20251225T100000Z
SUMMARY:Основы российской государственности
LOCATION:Хим. к. 51
END:VEVENT
BEGIN:VEVENT
UID:r7gv@192.168.245.71:3006
SEQUENCE:0
DTSTAMP:20260423T141108Z
DTSTART:20251225T100000Z
DTEND:20251225T120000Z
SUMMARY:Основы российской государственности
LOCATION:Хим. к. 51
END:VEVENT
BEGIN:VEVENT
UID:25a4@192.168.245.71:3006
SEQUENCE:0
DTSTAMP:20260423T141108Z
DTSTART:20251225T120000Z
DTEND:20251225T140000Z
SUMMARY:Основы российской государственности
LOCATION:Хим. к. 51
END:VEVENT
END:VCALENDAR