BEGIN:VCALENDAR
VERSION:2.0
PRODID:-//spbstu.ru//ical//RU
NAME:Расписание
X-WR-CALNAME:Расписание
TIMEZONE-ID:Europe/Moscow
X-WR-TIMEZONE:Europe/Moscow
BEGIN:VEVENT
UID:zhy2@192.168.245.71:3006
SEQUENCE:0
DTSTAMP:20260422T113701Z
DTSTART:20260312T150000Z
DTEND:20260312T164000Z
SUMMARY:Управление развитием территорий региона и муниципального образован
 ия
LOCATION:50 уч.к 1116
END:VEVENT
BEGIN:VEVENT
UID:los0@192.168.245.71:3006
SEQUENCE:0
DTSTAMP:20260422T113701Z
DTSTART:20260312T170000Z
DTEND:20260312T184000Z
SUMMARY:Управление развитием территорий региона и муниципального образован
 ия
LOCATION:50 уч.к 1116
END:VEVENT
END:VCALENDAR