BEGIN:VCALENDAR
VERSION:2.0
PRODID:-//spbstu.ru//ical//RU
NAME:Расписание
X-WR-CALNAME:Расписание
TIMEZONE-ID:Europe/Moscow
X-WR-TIMEZONE:Europe/Moscow
BEGIN:VEVENT
UID:3hub@192.168.245.71:3006
SEQUENCE:0
DTSTAMP:20260422T113810Z
DTSTART:20260602T070000Z
DTEND:20260602T104000Z
SUMMARY:Ознакомительная практика
LOCATION:50 уч.к 1234
END:VEVENT
END:VCALENDAR