BEGIN:VCALENDAR
VERSION:2.0
PRODID:-//spbstu.ru//ical//RU
NAME:Расписание
X-WR-CALNAME:Расписание
TIMEZONE-ID:Europe/Moscow
X-WR-TIMEZONE:Europe/Moscow
BEGIN:VEVENT
UID:ued0@192.168.245.71:3006
SEQUENCE:0
DTSTAMP:20260426T041819Z
DTSTART:20260109T080000Z
DTEND:20260109T093000Z
SUMMARY:Оптика конденсированных сред
LOCATION:НОЦ СЛК 204
END:VEVENT
BEGIN:VEVENT
UID:yrhf@192.168.245.71:3006
SEQUENCE:0
DTSTAMP:20260426T041819Z
DTSTART:20260110T080000Z
DTEND:20260110T140000Z
SUMMARY:Оптика конденсированных сред
LOCATION:НОЦ СЛК 204
END:VEVENT
END:VCALENDAR