BEGIN:VCALENDAR
VERSION:2.0
PRODID:-//spbstu.ru//ical//RU
NAME:Расписание
X-WR-CALNAME:Расписание
TIMEZONE-ID:Europe/Moscow
X-WR-TIMEZONE:Europe/Moscow
BEGIN:VEVENT
UID:abmt@192.168.245.71:3006
SEQUENCE:0
DTSTAMP:20260422T115734Z
DTSTART:20251219T110000Z
DTEND:20251219T124000Z
SUMMARY:Физика
LOCATION:3 к. 204
END:VEVENT
END:VCALENDAR