BEGIN:VCALENDAR
VERSION:2.0
PRODID:-//spbstu.ru//ical//RU
NAME:Расписание
X-WR-CALNAME:Расписание
TIMEZONE-ID:Europe/Moscow
X-WR-TIMEZONE:Europe/Moscow
BEGIN:VEVENT
UID:zirj@192.168.245.71:3006
SEQUENCE:0
DTSTAMP:20260423T175705Z
DTSTART:20251014T090000Z
DTEND:20251014T104000Z
SUMMARY:Физика плазмы
LOCATION:2 к. 430а
END:VEVENT
BEGIN:VEVENT
UID:0bdi@192.168.245.71:3006
SEQUENCE:0
DTSTAMP:20260423T175705Z
DTSTART:20251014T110000Z
DTEND:20251014T124000Z
SUMMARY:Электроника
LOCATION:2 к. 445
END:VEVENT
BEGIN:VEVENT
UID:lk3i@192.168.245.71:3006
SEQUENCE:0
DTSTAMP:20260423T175705Z
DTSTART:20251014T130000Z
DTEND:20251014T144000Z
SUMMARY:Электроника
LOCATION:2 к. 445
END:VEVENT
BEGIN:VEVENT
UID:g049@192.168.245.71:3006
SEQUENCE:0
DTSTAMP:20260423T175705Z
DTSTART:20251017T110000Z
DTEND:20251017T124000Z
SUMMARY:Физические основы электроники
LOCATION:2 к. 446
END:VEVENT
BEGIN:VEVENT
UID:54dr@192.168.245.71:3006
SEQUENCE:0
DTSTAMP:20260423T175705Z
DTSTART:20251017T130000Z
DTEND:20251017T144000Z
SUMMARY:Физика плазмы
LOCATION:2 к. 411
END:VEVENT
END:VCALENDAR