BEGIN:VCALENDAR
VERSION:2.0
PRODID:-//spbstu.ru//ical//RU
NAME:Расписание
X-WR-CALNAME:Расписание
TIMEZONE-ID:Europe/Moscow
X-WR-TIMEZONE:Europe/Moscow
BEGIN:VEVENT
UID:wv7g@192.168.245.71:3006
SEQUENCE:0
DTSTAMP:20260424T004000Z
DTSTART:20251021T090000Z
DTEND:20251021T104000Z
SUMMARY:Физика плазмы
LOCATION:2 к. 430а
END:VEVENT
BEGIN:VEVENT
UID:mls7@192.168.245.71:3006
SEQUENCE:0
DTSTAMP:20260424T004000Z
DTSTART:20251021T110000Z
DTEND:20251021T124000Z
SUMMARY:Электроника
LOCATION:2 к. 445
END:VEVENT
BEGIN:VEVENT
UID:4uu6@192.168.245.71:3006
SEQUENCE:0
DTSTAMP:20260424T004000Z
DTSTART:20251021T130000Z
DTEND:20251021T144000Z
SUMMARY:Электроника
LOCATION:2 к. 445
END:VEVENT
BEGIN:VEVENT
UID:98rl@192.168.245.71:3006
SEQUENCE:0
DTSTAMP:20260424T004000Z
DTSTART:20251024T110000Z
DTEND:20251024T124000Z
SUMMARY:Физические основы электроники
LOCATION:2 к. 446
END:VEVENT
BEGIN:VEVENT
UID:t1by@192.168.245.71:3006
SEQUENCE:0
DTSTAMP:20260424T004000Z
DTSTART:20251024T130000Z
DTEND:20251024T144000Z
SUMMARY:Физика плазмы
LOCATION:2 к. 411
END:VEVENT
END:VCALENDAR