BEGIN:VCALENDAR
VERSION:2.0
PRODID:-//spbstu.ru//ical//RU
NAME:Расписание
X-WR-CALNAME:Расписание
TIMEZONE-ID:Europe/Moscow
X-WR-TIMEZONE:Europe/Moscow
BEGIN:VEVENT
UID:nn6i@192.168.245.71:3006
SEQUENCE:0
DTSTAMP:20260422T115812Z
DTSTART:20251216T090000Z
DTEND:20251216T104000Z
SUMMARY:Физика плазмы
LOCATION:2 к. 430а
END:VEVENT
BEGIN:VEVENT
UID:91lr@192.168.245.71:3006
SEQUENCE:0
DTSTAMP:20260422T115812Z
DTSTART:20251216T110000Z
DTEND:20251216T124000Z
SUMMARY:Электроника
LOCATION:2 к. 445
END:VEVENT
BEGIN:VEVENT
UID:0n5d@192.168.245.71:3006
SEQUENCE:0
DTSTAMP:20260422T115812Z
DTSTART:20251216T130000Z
DTEND:20251216T144000Z
SUMMARY:Электроника
LOCATION:2 к. 445
END:VEVENT
BEGIN:VEVENT
UID:akz3@192.168.245.71:3006
SEQUENCE:0
DTSTAMP:20260422T115812Z
DTSTART:20251218T100000Z
DTEND:20251218T130000Z
SUMMARY:Физические основы электроники
LOCATION:2 к. 446
END:VEVENT
END:VCALENDAR