BEGIN:VCALENDAR
VERSION:2.0
PRODID:-//spbstu.ru//ical//RU
NAME:Расписание
X-WR-CALNAME:Расписание
TIMEZONE-ID:Europe/Moscow
X-WR-TIMEZONE:Europe/Moscow
BEGIN:VEVENT
UID:7p3y@192.168.245.71:3006
SEQUENCE:0
DTSTAMP:20260421T051314Z
DTSTART:20260310T090000Z
DTEND:20260310T104000Z
SUMMARY:Инженерная и компьютерная графика
LOCATION:2 к. 443
END:VEVENT
BEGIN:VEVENT
UID:4icd@192.168.245.71:3006
SEQUENCE:0
DTSTAMP:20260421T051314Z
DTSTART:20260311T110000Z
DTEND:20260311T124000Z
SUMMARY:Инженерная и компьютерная графика
LOCATION:2 к. 443
END:VEVENT
BEGIN:VEVENT
UID:xabb@192.168.245.71:3006
SEQUENCE:0
DTSTAMP:20260421T051314Z
DTSTART:20260312T110000Z
DTEND:20260312T124000Z
SUMMARY:Инженерная и компьютерная графика
LOCATION:2 к. 443
END:VEVENT
BEGIN:VEVENT
UID:n819@192.168.245.71:3006
SEQUENCE:0
DTSTAMP:20260421T051314Z
DTSTART:20260313T070000Z
DTEND:20260313T084000Z
SUMMARY:Инженерная и компьютерная графика
LOCATION:2 к. 443
END:VEVENT
END:VCALENDAR