BEGIN:VCALENDAR
VERSION:2.0
PRODID:-//spbstu.ru//ical//RU
NAME:Расписание
X-WR-CALNAME:Расписание
TIMEZONE-ID:Europe/Moscow
X-WR-TIMEZONE:Europe/Moscow
BEGIN:VEVENT
UID:huod@192.168.245.71:3006
SEQUENCE:0
DTSTAMP:20260420T174032Z
DTSTART:20260428T090000Z
DTEND:20260428T104000Z
SUMMARY:Инженерная и компьютерная графика
LOCATION:2 к. 443
END:VEVENT
BEGIN:VEVENT
UID:h4wq@192.168.245.71:3006
SEQUENCE:0
DTSTAMP:20260420T174032Z
DTSTART:20260429T110000Z
DTEND:20260429T124000Z
SUMMARY:Инженерная и компьютерная графика
LOCATION:2 к. 443
END:VEVENT
BEGIN:VEVENT
UID:1qnd@192.168.245.71:3006
SEQUENCE:0
DTSTAMP:20260420T174032Z
DTSTART:20260430T110000Z
DTEND:20260430T124000Z
SUMMARY:Инженерная и компьютерная графика
LOCATION:2 к. 443
END:VEVENT
END:VCALENDAR