BEGIN:VCALENDAR
VERSION:2.0
PRODID:-//spbstu.ru//ical//RU
NAME:Расписание
X-WR-CALNAME:Расписание
TIMEZONE-ID:Europe/Moscow
X-WR-TIMEZONE:Europe/Moscow
BEGIN:VEVENT
UID:mvz5@192.168.245.71:3006
SEQUENCE:0
DTSTAMP:20260424T233623Z
DTSTART:20251003T090000Z
DTEND:20251003T104000Z
SUMMARY:Цифровая обработка сигналов
LOCATION:3 к. 404
END:VEVENT
BEGIN:VEVENT
UID:n23j@192.168.245.71:3006
SEQUENCE:0
DTSTAMP:20260424T233623Z
DTSTART:20251003T110000Z
DTEND:20251003T124000Z
SUMMARY:Цифровая обработка сигналов
LOCATION:3 к. 401
END:VEVENT
BEGIN:VEVENT
UID:3552@192.168.245.71:3006
SEQUENCE:0
DTSTAMP:20260424T233623Z
DTSTART:20251003T130000Z
DTEND:20251003T144000Z
SUMMARY:Цифровая обработка сигналов
LOCATION:3 к. 404
END:VEVENT
END:VCALENDAR