BEGIN:VCALENDAR
VERSION:2.0
PRODID:-//spbstu.ru//ical//RU
NAME:Расписание
X-WR-CALNAME:Расписание
TIMEZONE-ID:Europe/Moscow
X-WR-TIMEZONE:Europe/Moscow
BEGIN:VEVENT
UID:aay6@192.168.245.71:3006
SEQUENCE:0
DTSTAMP:20260422T193423Z
DTSTART:20260217T090000Z
DTEND:20260217T104000Z
SUMMARY:Сигнальные процессоры
LOCATION:3 к. 503
END:VEVENT
BEGIN:VEVENT
UID:b6b8@192.168.245.71:3006
SEQUENCE:0
DTSTAMP:20260422T193423Z
DTSTART:20260217T110000Z
DTEND:20260217T124000Z
SUMMARY:Сигнальные процессоры
LOCATION:3 к. 404а
END:VEVENT
BEGIN:VEVENT
UID:h01s@192.168.245.71:3006
SEQUENCE:0
DTSTAMP:20260422T193423Z
DTSTART:20260217T130000Z
DTEND:20260217T144000Z
SUMMARY:Сигнальные процессоры
LOCATION:3 к. 404а
END:VEVENT
BEGIN:VEVENT
UID:onhz@192.168.245.71:3006
SEQUENCE:0
DTSTAMP:20260422T193423Z
DTSTART:20260219T150000Z
DTEND:20260219T164000Z
SUMMARY:Цифровая обработка сигналов
LOCATION:3 к. 404
END:VEVENT
END:VCALENDAR