BEGIN:VCALENDAR
VERSION:2.0
PRODID:-//spbstu.ru//ical//RU
NAME:Расписание
X-WR-CALNAME:Расписание
TIMEZONE-ID:Europe/Moscow
X-WR-TIMEZONE:Europe/Moscow
BEGIN:VEVENT
UID:9ps2@192.168.245.71:3006
SEQUENCE:0
DTSTAMP:20260426T035137Z
DTSTART:20250909T110000Z
DTEND:20250909T124000Z
SUMMARY:Детали машин и основы конструирования
LOCATION:ГЗ 327
END:VEVENT
BEGIN:VEVENT
UID:l188@192.168.245.71:3006
SEQUENCE:0
DTSTAMP:20260426T035137Z
DTSTART:20250909T130000Z
DTEND:20250909T144000Z
SUMMARY:Детали машин и основы конструирования
LOCATION:ГЗ 327
END:VEVENT
BEGIN:VEVENT
UID:ip4o@192.168.245.71:3006
SEQUENCE:0
DTSTAMP:20260426T035137Z
DTSTART:20250910T070000Z
DTEND:20250910T084000Z
SUMMARY:Детали машин и основы конструирования
LOCATION:ГЗ 327
END:VEVENT
BEGIN:VEVENT
UID:rovm@192.168.245.71:3006
SEQUENCE:0
DTSTAMP:20260426T035137Z
DTSTART:20250910T090000Z
DTEND:20250910T104000Z
SUMMARY:Детали машин и основы конструирования
LOCATION:ГЗ 327
END:VEVENT
BEGIN:VEVENT
UID:nl61@192.168.245.71:3006
SEQUENCE:0
DTSTAMP:20260426T035137Z
DTSTART:20250910T110000Z
DTEND:20250910T124000Z
SUMMARY:Детали машин и основы конструирования
LOCATION:ГЗ 327
END:VEVENT
END:VCALENDAR