BEGIN:VCALENDAR
VERSION:2.0
PRODID:-//spbstu.ru//ical//RU
NAME:Расписание
X-WR-CALNAME:Расписание
TIMEZONE-ID:Europe/Moscow
X-WR-TIMEZONE:Europe/Moscow
BEGIN:VEVENT
UID:lqas@192.168.245.71:3006
SEQUENCE:0
DTSTAMP:20260421T051335Z
DTSTART:20260428T110000Z
DTEND:20260428T124000Z
SUMMARY:Детали машин и основы конструирования
LOCATION:ГЗ 232
END:VEVENT
BEGIN:VEVENT
UID:8q72@192.168.245.71:3006
SEQUENCE:0
DTSTAMP:20260421T051335Z
DTSTART:20260428T130000Z
DTEND:20260428T144000Z
SUMMARY:Детали машин и основы конструирования
LOCATION:ГЗ 232
END:VEVENT
BEGIN:VEVENT
UID:4dot@192.168.245.71:3006
SEQUENCE:0
DTSTAMP:20260421T051335Z
DTSTART:20260429T070000Z
DTEND:20260429T084000Z
SUMMARY:Детали машин и основы конструирования
LOCATION:ГЗ 327
END:VEVENT
BEGIN:VEVENT
UID:eq27@192.168.245.71:3006
SEQUENCE:0
DTSTAMP:20260421T051335Z
DTSTART:20260429T090000Z
DTEND:20260429T104000Z
SUMMARY:Детали машин и основы конструирования
LOCATION:ГЗ 327
END:VEVENT
BEGIN:VEVENT
UID:mmhy@192.168.245.71:3006
SEQUENCE:0
DTSTAMP:20260421T051335Z
DTSTART:20260429T110000Z
DTEND:20260429T124000Z
SUMMARY:Детали машин и основы конструирования
LOCATION:ГЗ 327
END:VEVENT
END:VCALENDAR