BEGIN:VCALENDAR
VERSION:2.0
PRODID:-//spbstu.ru//ical//RU
NAME:Расписание
X-WR-CALNAME:Расписание
TIMEZONE-ID:Europe/Moscow
X-WR-TIMEZONE:Europe/Moscow
BEGIN:VEVENT
UID:dd07@192.168.245.71:3006
SEQUENCE:0
DTSTAMP:20260421T072750Z
DTSTART:20260421T070000Z
DTEND:20260421T084000Z
SUMMARY:Объектно-ориентированное программирование
LOCATION:3 к. 404
END:VEVENT
BEGIN:VEVENT
UID:zv8e@192.168.245.71:3006
SEQUENCE:0
DTSTAMP:20260421T072750Z
DTSTART:20260421T090000Z
DTEND:20260421T104000Z
SUMMARY:Объектно-ориентированное программирование
LOCATION:3 к. 404
END:VEVENT
BEGIN:VEVENT
UID:mm0n@192.168.245.71:3006
SEQUENCE:0
DTSTAMP:20260421T072750Z
DTSTART:20260421T110000Z
DTEND:20260421T124000Z
SUMMARY:Технологии разработки программного обеспечения
LOCATION:3 к. 406
END:VEVENT
BEGIN:VEVENT
UID:i585@192.168.245.71:3006
SEQUENCE:0
DTSTAMP:20260421T072750Z
DTSTART:20260421T130000Z
DTEND:20260421T144000Z
SUMMARY:Технологии разработки программного обеспечения
LOCATION:3 к. 405
END:VEVENT
BEGIN:VEVENT
UID:a8vs@192.168.245.71:3006
SEQUENCE:0
DTSTAMP:20260421T072750Z
DTSTART:20260422T110000Z
DTEND:20260422T124000Z
SUMMARY:Базы данных
LOCATION:3 к. 402
END:VEVENT
BEGIN:VEVENT
UID:1i97@192.168.245.71:3006
SEQUENCE:0
DTSTAMP:20260421T072750Z
DTSTART:20260422T130000Z
DTEND:20260422T144000Z
SUMMARY:Базы данных
LOCATION:3 к. 402
END:VEVENT
BEGIN:VEVENT
UID:w5l5@192.168.245.71:3006
SEQUENCE:0
DTSTAMP:20260421T072750Z
DTSTART:20260423T130000Z
DTEND:20260423T144000Z
SUMMARY:Объектно-ориентированное программирование
LOCATION:3 к. 404
END:VEVENT
BEGIN:VEVENT
UID:8t4r@192.168.245.71:3006
SEQUENCE:0
DTSTAMP:20260421T072750Z
DTSTART:20260423T150000Z
DTEND:20260423T164000Z
SUMMARY:Объектно-ориентированное программирование
LOCATION:3 к. 404
END:VEVENT
END:VCALENDAR