BEGIN:VCALENDAR
VERSION:2.0
PRODID:-//spbstu.ru//ical//RU
NAME:Расписание
X-WR-CALNAME:Расписание
TIMEZONE-ID:Europe/Moscow
X-WR-TIMEZONE:Europe/Moscow
BEGIN:VEVENT
UID:iqg0@192.168.245.71:3006
SEQUENCE:0
DTSTAMP:20260421T110021Z
DTSTART:20260407T070000Z
DTEND:20260407T084000Z
SUMMARY:Технологии разработки программного обеспечения
LOCATION:3 к. 401
END:VEVENT
BEGIN:VEVENT
UID:ca78@192.168.245.71:3006
SEQUENCE:0
DTSTAMP:20260421T110021Z
DTSTART:20260407T090000Z
DTEND:20260407T104000Z
SUMMARY:Объектно-ориентированное программирование
LOCATION:3 к. 404
END:VEVENT
BEGIN:VEVENT
UID:xb5c@192.168.245.71:3006
SEQUENCE:0
DTSTAMP:20260421T110021Z
DTSTART:20260407T110000Z
DTEND:20260407T124000Z
SUMMARY:Технологии разработки программного обеспечения
LOCATION:3 к. 406
END:VEVENT
BEGIN:VEVENT
UID:ez04@192.168.245.71:3006
SEQUENCE:0
DTSTAMP:20260421T110021Z
DTSTART:20260407T130000Z
DTEND:20260407T144000Z
SUMMARY:Технологии разработки программного обеспечения
LOCATION:3 к. 405
END:VEVENT
BEGIN:VEVENT
UID:vpns@192.168.245.71:3006
SEQUENCE:0
DTSTAMP:20260421T110021Z
DTSTART:20260408T110000Z
DTEND:20260408T124000Z
SUMMARY:Базы данных
LOCATION:3 к. 402
END:VEVENT
BEGIN:VEVENT
UID:w8yb@192.168.245.71:3006
SEQUENCE:0
DTSTAMP:20260421T110021Z
DTSTART:20260408T130000Z
DTEND:20260408T144000Z
SUMMARY:Базы данных
LOCATION:3 к. 402
END:VEVENT
BEGIN:VEVENT
UID:vmsn@192.168.245.71:3006
SEQUENCE:0
DTSTAMP:20260421T110021Z
DTSTART:20260409T130000Z
DTEND:20260409T144000Z
SUMMARY:Объектно-ориентированное программирование
LOCATION:3 к. 404
END:VEVENT
BEGIN:VEVENT
UID:llrz@192.168.245.71:3006
SEQUENCE:0
DTSTAMP:20260421T110021Z
DTSTART:20260409T150000Z
DTEND:20260409T164000Z
SUMMARY:Объектно-ориентированное программирование
LOCATION:3 к. 404
END:VEVENT
END:VCALENDAR